BEGIN:VCALENDAR
VERSION:2.0
PRODID:-//Historial de la Grande Guerre - ECPv6.15.18//NONSGML v1.0//EN
CALSCALE:GREGORIAN
METHOD:PUBLISH
X-ORIGINAL-URL:https://www.historial.fr/en/
X-WR-CALDESC:Events for Historial de la Grande Guerre
REFRESH-INTERVAL;VALUE=DURATION:PT1H
X-Robots-Tag:noindex
X-PUBLISHED-TTL:PT1H
BEGIN:VTIMEZONE
TZID:UTC
BEGIN:STANDARD
TZOFFSETFROM:+0000
TZOFFSETTO:+0000
TZNAME:UTC
DTSTART:20230101T000000
END:STANDARD
END:VTIMEZONE
BEGIN:VEVENT
DTSTART;VALUE=DATE:20240506
DTEND;VALUE=DATE:20240610
DTSTAMP:20260422T120507
CREATED:20240402T144329Z
LAST-MODIFIED:20240411T140511Z
UID:10000030-1714953600-1717977599@www.historial.fr
SUMMARY:Paris 1924-2024\, les Jeux Olympiques\, miroir des sociétés. (Paris 1924-2024\, the Olympic Games\, mirror of societies.)
DESCRIPTION:Exhibition in partnership with the Shoah Memorial. \nPhoto: Jesse Owens Olympic Games\, Berlin 1936\n \nRead more
URL:https://www.historial.fr/en/evenement/paris-1924-2024-les-jeux-olympiques-miroir-des-societes-paris-1924-2024-the-olympic-games-mirror-of-societies/
LOCATION:Historial de la Grande Guerre\, Péronne
CATEGORIES:Temporary exhibits
ATTACH;FMTTYPE=image/jpeg:https://www.historial.fr/wp-content/uploads/2024/04/BAL_5669907-scaled.jpg
END:VEVENT
BEGIN:VEVENT
DTSTART;VALUE=DATE:20240616
DTEND;VALUE=DATE:20240624
DTSTAMP:20260422T120507
CREATED:20240531T140026Z
LAST-MODIFIED:20240531T150446Z
UID:10000057-1718496000-1719187199@www.historial.fr
SUMMARY:Exhibition  Vélo Folie : Vélocipèdes
DESCRIPTION:Guided tours led by Philippe ROUEDE (Kimagine)\nOn reservation only +33 (0)3 22 83 14 18\nRead more
URL:https://www.historial.fr/en/evenement/exhibition-velo-folie-velocipedes/
LOCATION:Historial de la Grande Guerre\, Péronne
CATEGORIES:Temporary exhibits
ATTACH;FMTTYPE=image/png:https://www.historial.fr/wp-content/uploads/2024/05/visuel_evenement.png
END:VEVENT
END:VCALENDAR