BEGIN:VCALENDAR
VERSION:2.0
PRODID:-//Historial de la Grande Guerre - ECPv6.15.18//NONSGML v1.0//EN
CALSCALE:GREGORIAN
METHOD:PUBLISH
X-WR-CALNAME:Historial de la Grande Guerre
X-ORIGINAL-URL:https://www.historial.fr/en/
X-WR-CALDESC:Events for Historial de la Grande Guerre
REFRESH-INTERVAL;VALUE=DURATION:PT1H
X-Robots-Tag:noindex
X-PUBLISHED-TTL:PT1H
BEGIN:VTIMEZONE
TZID:UTC
BEGIN:STANDARD
TZOFFSETFROM:+0000
TZOFFSETTO:+0000
TZNAME:UTC
DTSTART:20230101T000000
END:STANDARD
END:VTIMEZONE
BEGIN:VEVENT
DTSTART;TZID=UTC:20240427T143000
DTEND;TZID=UTC:20240427T163000
DTSTAMP:20260424T064616
CREATED:20240201T150355Z
LAST-MODIFIED:20240201T150355Z
UID:10000013-1714228200-1714235400@www.historial.fr
SUMMARY:Conference by Davye Cesbron: History told through a Historial object: The wooden box
DESCRIPTION:
URL:https://www.historial.fr/en/evenement/conference-by-davye-cesbron-history-told-through-a-historial-object-the-wooden-box/
LOCATION:Historial de la Grande Guerre\, Péronne
ATTACH;FMTTYPE=image/jpeg:https://www.historial.fr/wp-content/uploads/2024/04/1-boite-prisonnier-scaled.jpg
END:VEVENT
BEGIN:VEVENT
DTSTART;VALUE=DATE:20240324
DTEND;VALUE=DATE:20240325
DTSTAMP:20260424T064616
CREATED:20240201T150313Z
LAST-MODIFIED:20240201T150313Z
UID:10000012-1711238400-1711324799@www.historial.fr
SUMMARY:Printemps du département
DESCRIPTION:
URL:https://www.historial.fr/en/evenement/printemps-du-departement/
LOCATION:Historial de la Grande Guerre\, Péronne
END:VEVENT
BEGIN:VEVENT
DTSTART;VALUE=DATE:20240119
DTEND;VALUE=DATE:20240330
DTSTAMP:20260424T064616
CREATED:20240109T091344Z
LAST-MODIFIED:20240109T091344Z
UID:10000011-1705622400-1711756799@www.historial.fr
SUMMARY:GRAFF & WAR exhibition
DESCRIPTION:
URL:https://www.historial.fr/en/evenement/graff-war-exhibition/
LOCATION:Historial de la Grande Guerre\, Péronne
END:VEVENT
END:VCALENDAR