BEGIN:VCALENDAR
VERSION:2.0
PRODID:-//Historial de la Grande Guerre - ECPv6.15.18//NONSGML v1.0//EN
CALSCALE:GREGORIAN
METHOD:PUBLISH
X-WR-CALNAME:Historial de la Grande Guerre
X-ORIGINAL-URL:https://www.historial.fr
X-WR-CALDESC:Évènements pour Historial de la Grande Guerre
REFRESH-INTERVAL;VALUE=DURATION:PT1H
X-Robots-Tag:noindex
X-PUBLISHED-TTL:PT1H
BEGIN:VTIMEZONE
TZID:UTC
BEGIN:STANDARD
TZOFFSETFROM:+0000
TZOFFSETTO:+0000
TZNAME:UTC
DTSTART:20240101T000000
END:STANDARD
END:VTIMEZONE
BEGIN:VEVENT
DTSTART;TZID=UTC:20250730T140000
DTEND;TZID=UTC:20250730T160000
DTSTAMP:20260423T071615
CREATED:20250619T144009Z
LAST-MODIFIED:20250619T144009Z
UID:11352-1753884000-1753891200@www.historial.fr
SUMMARY:Atelier AviationFabrique ton avion
DESCRIPTION:Partez à la découverte des héros du ciel pendant la Grande Guerre : Roland Garros\, Georges Guynemer ou encore le célèbre Baron Rouge ! Plongez dans l’univers des as de l’aviation et fabriquez votre propre avion miniature de 14-18. \nÀ partir de 6 ans. Durée 30 à 45 min\nCompris dans le billet d’entrée ou 4€ par atelier (1 enfant + 1 accompagnateur)\nRéservation conseillée au 03 22 83 14 18 ou accueil@historial.org ou directement au bureau d’accueil du musée dans la limite des places disponibles
URL:https://www.historial.fr/evenement/atelier-aviationfabrique-ton-avion-4/
LOCATION:Historial de la Grande Guerre\, Péronne
CATEGORIES:Animation Enfants,Atelier
ATTACH;FMTTYPE=image/jpeg:https://www.historial.fr/wp-content/uploads/2025/04/Atelier-aviation2.jpg
END:VEVENT
END:VCALENDAR