BEGIN:VCALENDAR
VERSION:2.0
PRODID:-//Historial de la Grande Guerre - ECPv6.15.18//NONSGML v1.0//EN
CALSCALE:GREGORIAN
METHOD:PUBLISH
X-WR-CALNAME:Historial de la Grande Guerre
X-ORIGINAL-URL:https://www.historial.fr
X-WR-CALDESC:Évènements pour Historial de la Grande Guerre
REFRESH-INTERVAL;VALUE=DURATION:PT1H
X-Robots-Tag:noindex
X-PUBLISHED-TTL:PT1H
BEGIN:VTIMEZONE
TZID:UTC
BEGIN:STANDARD
TZOFFSETFROM:+0000
TZOFFSETTO:+0000
TZNAME:UTC
DTSTART:20230101T000000
END:STANDARD
END:VTIMEZONE
BEGIN:VEVENT
DTSTART;TZID=UTC:20240721T100000
DTEND;TZID=UTC:20240721T120000
DTSTAMP:20260422T105254
CREATED:20240716T124655Z
LAST-MODIFIED:20240716T124932Z
UID:8986-1721556000-1721563200@www.historial.fr
SUMMARY:Atelier AviationFabrique ton avion
DESCRIPTION:À partir de 6 ans. Durée 30 à 45 min (Compris dans le billet d’entrée)\nRéservation conseillée au 03 22 83 14 18 ou directement au bureau d’accueil du musée
URL:https://www.historial.fr/evenement/atelier-aviationfabrique-ton-avion/
LOCATION:Historial de la Grande Guerre\, Péronne
CATEGORIES:Atelier
ATTACH;FMTTYPE=image/jpeg:https://www.historial.fr/wp-content/uploads/2024/07/atelier-aviation.jpg
END:VEVENT
END:VCALENDAR