BEGIN:VCALENDAR
VERSION:2.0
PRODID:-//Historial de la Grande Guerre - ECPv6.15.18//NONSGML v1.0//EN
CALSCALE:GREGORIAN
METHOD:PUBLISH
X-WR-CALNAME:Historial de la Grande Guerre
X-ORIGINAL-URL:https://www.historial.fr
X-WR-CALDESC:Évènements pour Historial de la Grande Guerre
REFRESH-INTERVAL;VALUE=DURATION:PT1H
X-Robots-Tag:noindex
X-PUBLISHED-TTL:PT1H
BEGIN:VTIMEZONE
TZID:UTC
BEGIN:STANDARD
TZOFFSETFROM:+0000
TZOFFSETTO:+0000
TZNAME:UTC
DTSTART:20240101T000000
END:STANDARD
END:VTIMEZONE
BEGIN:VEVENT
DTSTART;TZID=UTC:20250728T140000
DTEND;TZID=UTC:20250728T160000
DTSTAMP:20260423T085954
CREATED:20250619T143633Z
LAST-MODIFIED:20250619T143633Z
UID:11348-1753711200-1753718400@www.historial.fr
SUMMARY:Atelier "Dans la peau d'un archéologue de la Grande Guerre"
DESCRIPTION:La Première Guerre mondiale a profondément marqué les paysages de l’ancienne ligne de front. Aujourd’hui encore\, certaines traces demeurent invisibles\, enfouies sous nos pieds. En enquêtant comme un archéologue\, découvre comment l’observation et la recherche permettent de mieux comprendre ce conflit.\nDurée : environ 1 h.\nCompris dans le billet d’entrée ou 4€ par atelier (1 enfant + 1 accompagnateur)\nRéservation conseillée au 03 22 83 14 18 ou accueil@historial.org ou directement au bureau d’accueil du musée dans la limite des places disponibles
URL:https://www.historial.fr/evenement/atelier-dans-la-peau-dun-archeologue-de-la-grande-guerre-10/
LOCATION:Historial de la Grande Guerre\, Péronne
CATEGORIES:Animation Enfants,Atelier
ATTACH;FMTTYPE=image/jpeg:https://www.historial.fr/wp-content/uploads/2024/04/atelier-archeologie.jpg
END:VEVENT
END:VCALENDAR