BEGIN:VCALENDAR
VERSION:2.0
PRODID:-//Historial de la Grande Guerre - ECPv6.15.18//NONSGML v1.0//EN
CALSCALE:GREGORIAN
METHOD:PUBLISH
X-WR-CALNAME:Historial de la Grande Guerre
X-ORIGINAL-URL:https://www.historial.fr
X-WR-CALDESC:Évènements pour Historial de la Grande Guerre
REFRESH-INTERVAL;VALUE=DURATION:PT1H
X-Robots-Tag:noindex
X-PUBLISHED-TTL:PT1H
BEGIN:VTIMEZONE
TZID:UTC
BEGIN:STANDARD
TZOFFSETFROM:+0000
TZOFFSETTO:+0000
TZNAME:UTC
DTSTART:20240101T000000
END:STANDARD
END:VTIMEZONE
BEGIN:VEVENT
DTSTART;TZID=UTC:20250718T140000
DTEND;TZID=UTC:20250718T170000
DTSTAMP:20260423T034953
CREATED:20250624T090737Z
LAST-MODIFIED:20250624T090828Z
UID:11488-1752847200-1752858000@www.historial.fr
SUMMARY:Entrez dans l'histoire...en jouant !
DESCRIPTION:Participez à notre animation ludique sur le thème de la Première Guerre mondiale\, où jeux d’époque et créations originales du service éducatif vous plongent dans la vie quotidienne des soldats et des civils.\nÀ travers ces jeux collectifs\, tactiques ou d’observation\, petits et grands pourront apprendre en s’amusant.\nStratégie\, coopération\, respect des règles et esprit d’équipe seront les clés pour relever les défis proposés.\nCette animation est aussi l’occasion d’explorer la mémoire de la Grande Guerre autrement\, en mobilisant vos connaissances historiques et votre sens de l’analyse. \nUne expérience pédagogique\, interactive et conviviale ! Inscrivez-vous et venez jouer avec nous au cœur de l’Histoire ! \n💰 Compris dans le billet d’entrée\n☎️ Sur réservation : 03 22 83 14 18 ou accueil@historial.org
URL:https://www.historial.fr/evenement/entrez-dans-lhistoire-en-jouant/
LOCATION:Historial de la Grande Guerre\, Péronne
CATEGORIES:Animation Enfants,Animation Famille
ATTACH;FMTTYPE=image/jpeg:https://www.historial.fr/wp-content/uploads/2025/06/animation-Jeux.jpg
END:VEVENT
END:VCALENDAR