BEGIN:VCALENDAR
VERSION:2.0
PRODID:-//Historial de la Grande Guerre - ECPv6.15.18//NONSGML v1.0//EN
CALSCALE:GREGORIAN
METHOD:PUBLISH
X-WR-CALNAME:Historial de la Grande Guerre
X-ORIGINAL-URL:https://www.historial.fr/nl/
X-WR-CALDESC:Evenementen voor Historial de la Grande Guerre
REFRESH-INTERVAL;VALUE=DURATION:PT1H
X-Robots-Tag:noindex
X-PUBLISHED-TTL:PT1H
BEGIN:VTIMEZONE
TZID:UTC
BEGIN:STANDARD
TZOFFSETFROM:+0000
TZOFFSETTO:+0000
TZNAME:UTC
DTSTART:20230101T000000
END:STANDARD
END:VTIMEZONE
BEGIN:VEVENT
DTSTART;TZID=UTC:20240518T180000
DTEND;TZID=UTC:20240518T230000
DTSTAMP:20260424T093702
CREATED:20240402T140517Z
LAST-MODIFIED:20240411T151535Z
UID:7367-1716055200-1716073200@www.historial.fr
SUMMARY:Nuit des musées
DESCRIPTION:18 h : Projection du film Les oubliés de la Grande Guerre (Fouilles et découverte du corps d’Alain Fournier)\, organisée par le Centre de Recherche \n20h30 : En quête du trésor royal\, Chasse  au trésor animée  par La troupe  Atrébates. Sur inscription au 03 22 83 14 18
URL:https://www.historial.fr/nl/evenement/nuit-des-musees/
LOCATION:Historial de la Grande Guerre\, Péronne
ATTACH;FMTTYPE=image/jpeg:https://www.historial.fr/wp-content/uploads/2024/04/Twitter_Linkedin-NuitMusee-960x540-1.jpg
END:VEVENT
END:VCALENDAR